BEGIN:VCALENDAR
VERSION:2.0
PRODID:-//Trinity Church Mill Hill (United Reformed and Methodist): Information about services, location, activities and contacts. - ECPv6.15.20//NONSGML v1.0//EN
CALSCALE:GREGORIAN
METHOD:PUBLISH
X-ORIGINAL-URL:https://www.trinitymillhill.org.uk
X-WR-CALDESC:Events for Trinity Church Mill Hill (United Reformed and Methodist): Information about services, location, activities and contacts.
REFRESH-INTERVAL;VALUE=DURATION:PT1H
X-Robots-Tag:noindex
X-PUBLISHED-TTL:PT1H
BEGIN:VTIMEZONE
TZID:UTC
BEGIN:STANDARD
TZOFFSETFROM:+0000
TZOFFSETTO:+0000
TZNAME:UTC
DTSTART:20220101T000000
END:STANDARD
END:VTIMEZONE
BEGIN:VEVENT
DTSTART;TZID=UTC:20230518T140000
DTEND;TZID=UTC:20230518T153000
DTSTAMP:20260421T192934
CREATED:20230307T111954Z
LAST-MODIFIED:20230307T112049Z
UID:1804-1684418400-1684423800@www.trinitymillhill.org.uk
SUMMARY:Christian Aid fundraising afternoon & Talk with Veronica Wagner
DESCRIPTION:Bring and Buy stalls\, Cream Tea and Talk by Veronica Wagner on the work of Christian Aid. \nJoin us for our fortnightly talks in a friendly atmosphere – tea/coffee and cakes provided – all welcome \nEntry £2.50 \nEversfield Centre – 11 Eversfield Gardens\, Mill Hill\, London NW7 2AE
URL:https://www.trinitymillhill.org.uk/event/christian-aid-fundraising-afternoon/
CATEGORIES:Open House - Eversfield Ctre
ATTACH;FMTTYPE=image/png:https://www.trinitymillhill.org.uk/wp-content/uploads/2023/03/openhouse.png
END:VEVENT
BEGIN:VEVENT
DTSTART;TZID=UTC:20230504T140000
DTEND;TZID=UTC:20230504T153000
DTSTAMP:20260421T192934
CREATED:20230307T111414Z
LAST-MODIFIED:20230307T111414Z
UID:1802-1683208800-1683214200@www.trinitymillhill.org.uk
SUMMARY:Funny Girls - A talk with Geoff Bowden
DESCRIPTION:Join us for our fortnightly talks in a friendly atmosphere – tea/coffee and cakes provided – all welcome \n  \nEversfield Centre – 11 Eversfield Gardens\, Mill Hill\, London NW7 2AE
URL:https://www.trinitymillhill.org.uk/event/funny-girls-a-talk-with-geoff-bowden/
LOCATION:eversfield centre\, 11 Eversfield Gardens\, London\, NW7 2AE
CATEGORIES:Open House - Eversfield Ctre
ATTACH;FMTTYPE=image/png:https://www.trinitymillhill.org.uk/wp-content/uploads/2023/03/openhouse.png
END:VEVENT
END:VCALENDAR